BEGIN:VCALENDAR
VERSION:2.0
PRODID:Convívio Natalício
X-WR-CALNAME:Convívio Natalício
X-WR-TIMEZONE:Europe/Lisbon
X-PUBLISHED-TTL:P1W
BEGIN:VTIMEZONE
TZID:Europe/Lisbon
X-LIC-LOCATION:Europe/Lisbon
END:VTIMEZONE
BEGIN:VEVENT
UID:69e9ec37b944b
DTSTART;VALUE=DATE:20251225
SEQUENCE:0
TRANSP:OPAQUE
DTEND;VALUE=DATE:20251226
SUMMARY:Convívio Natalício
CLASS:PUBLIC
DESCRIPTION:Convívio Natalício
X-MICROSOFT-CDO-ALLDAYEVENT:TRUE
DTSTAMP:20260423T095359Z
END:VEVENT
END:VCALENDAR